BEGIN:VCALENDAR
VERSION:2.0
PRODID:-//wp-events-plugin.com//7.2.3.1//EN
TZID:Europe/Berlin
X-WR-TIMEZONE:Europe/Berlin
BEGIN:VEVENT
UID:270@sophia-bibliothek.de
DTSTART;TZID=Europe/Berlin:20260523T100000
DTEND;TZID=Europe/Berlin:20260523T160000
DTSTAMP:20260420T143248Z
URL:https://www.sophia-bibliothek.de/events/das-zelt-gottes-unter-den-mens
 chen-ist-von-1000-1600-uhr-geoeffnet-die-sophia-bibliothek-ist-geschlossen
 /
SUMMARY:Das Zelt Gottes unter den Menschen ist von 10:00 - 16:00 Uhr geöff
 net\; die Sophia Bibliothek ist geschlossen
DESCRIPTION:Das Zelt Gottes unter den Menschen ist von 10:00 - 16:00 Uhr ge
 öffnet\; die Sophia Bibliothek ist an dem Tag geschlossen.
CATEGORIES:Veranstaltung
LOCATION:Sophia Bibliothek\, Max-Braun-Str. 2\, Marktheidenfeld\, Deutschla
 nd
X-APPLE-STRUCTURED-LOCATION;VALUE=URI;X-ADDRESS=Max-Braun-Str. 2\, Markthei
 denfeld\, Deutschland;X-APPLE-RADIUS=100;X-TITLE=Sophia Bibliothek:geo:0,0
END:VEVENT
BEGIN:VTIMEZONE
TZID:Europe/Berlin
X-LIC-LOCATION:Europe/Berlin
BEGIN:DAYLIGHT
DTSTART:20260329T030000
TZOFFSETFROM:+0100
TZOFFSETTO:+0200
TZNAME:CEST
END:DAYLIGHT
END:VTIMEZONE
END:VCALENDAR