BEGIN:VCALENDAR
VERSION:2.0
PRODID:-//wp-events-plugin.com//7.2.3.1//EN
TZID:Europe/Berlin
X-WR-TIMEZONE:Europe/Berlin
BEGIN:VEVENT
UID:273@sophia-bibliothek.de
DTSTART;TZID=Europe/Berlin:20260502T100000
DTEND;TZID=Europe/Berlin:20260502T180000
DTSTAMP:20260420T143606Z
URL:https://www.sophia-bibliothek.de/events/die-sophia-bibliothek-und-das-
 zelt-gottes-unter-den-menschen-sind-von-1000-1800-uhr-geoeffnet-4/
SUMMARY:Die Sophia Bibliothek und das Zelt Gottes unter den Menschen sind v
 on 10:00 - 18:00 Uhr geöffnet
DESCRIPTION:
CATEGORIES:Veranstaltung
LOCATION:Sophia Bibliothek\, Max-Braun-Str. 2\, Marktheidenfeld\, Deutschla
 nd
X-APPLE-STRUCTURED-LOCATION;VALUE=URI;X-ADDRESS=Max-Braun-Str. 2\, Markthei
 denfeld\, Deutschland;X-APPLE-RADIUS=100;X-TITLE=Sophia Bibliothek:geo:0,0
END:VEVENT
BEGIN:VTIMEZONE
TZID:Europe/Berlin
X-LIC-LOCATION:Europe/Berlin
BEGIN:DAYLIGHT
DTSTART:20260329T030000
TZOFFSETFROM:+0100
TZOFFSETTO:+0200
TZNAME:CEST
END:DAYLIGHT
END:VTIMEZONE
END:VCALENDAR